BEGIN:VCALENDAR
VERSION:2.0
PRODID:-//ChamberMaster//Event Calendar 2.0//EN
METHOD:PUBLISH
X-PUBLISHED-TTL:P3D
REFRESH-INTERVAL:P3D
CALSCALE:GREGORIAN
BEGIN:VEVENT
DTSTART:20260504T120000Z
DTEND:20260504T130000Z
X-MICROSOFT-CDO-ALLDAYEVENT:FALSE
SUMMARY:Virtual Office Hours: Built By Members
DESCRIPTION:Momentum Monday: Built by Members\n\nStart your week with perspective  \n\nJoin us for Momentum Monday: Built by Members\, a behind-the-scenes look at how you our members help shape the Chamber's structure\, priorities\, and direction.\n\nThis session is designed to show how our organization is truly member-driven\, and how that influence shows up through our committees\, alliances\, programs\, and leadership pathways. We'll break down how everything connects and more importantly\, how you can plug in and help shape what comes next.\n\nThink of this as your "big picture" view of how member voices become Chamber action.\n\nWhy attend?\n\nBecause the Chamber isn't built for members it's built by members.\n\n\n	  Monday\, May 4\n	  8:00 9:00 AM\n	  Virtual (link sent via email the day prior)\n	  Free to attend | Registration required\n\n\nCome curious\, leave with a clearer picture of your impact.
X-ALT-DESC;FMTTYPE=text/html:<h3 data-end="1335" data-section-id="7747q2" data-start="1294"><span style="font-size:12px\;"><span style="font-family:tahoma\;"><span role="text"><strong data-end="1335" data-start="1298">Momentum Monday: Built by Members</strong></span></span></span></h3>\n\n<p data-end="1374" data-start="1337"><span style="font-size:12px\;"><span style="font-family:tahoma\;">Start your week with perspective &#128640\;</span></span></p>\n\n<p data-end="1539" data-start="1376"><span style="font-size:12px\;"><span style="font-family:tahoma\;">Join us for <strong data-end="1425" data-start="1388">Momentum Monday: Built by Members</strong>\, a behind-the-scenes look at how <em data-end="1464" data-start="1459">you</em>&mdash\;our members&mdash\;help shape the Chamber&rsquo\;s structure\, priorities\, and direction.</span></span></p>\n\n<p data-end="1839" data-start="1541"><span style="font-size:12px\;"><span style="font-family:tahoma\;">This session is designed to show how our organization is truly <strong data-end="1621" data-start="1604">member-driven</strong>\, and how that influence shows up through our committees\, alliances\, programs\, and leadership pathways. We&rsquo\;ll break down how everything connects&mdash\;and more importantly\, how you can plug in and help shape what comes next.</span></span></p>\n\n<p data-end="1925" data-start="1841"><span style="font-size:12px\;"><span style="font-family:tahoma\;">Think of this as your &ldquo\;big picture&rdquo\; view of how member voices become Chamber action.</span></span></p>\n\n<p data-end="2013" data-start="1927"><span style="font-size:12px\;"><span style="font-family:tahoma\;"><strong data-end="1942" data-start="1927">Why attend?</strong><br data-end="1945" data-start="1942" />\nBecause the Chamber isn&rsquo\;t built for members&mdash\;it&rsquo\;s built <em data-end="2004" data-start="2000">by</em> members.</span></span></p>\n\n<ul data-end="2151" data-start="2015">\n	<li data-end="2035" data-section-id="1l9neml" data-start="2015"><span style="font-size:12px\;"><span style="font-family:tahoma\;">&#128197\; Monday\, May 4</span></span></li>\n	<li data-end="2054" data-section-id="1prkue" data-start="2036"><span style="font-size:12px\;"><span style="font-family:tahoma\;">&#9200\; 8:00&ndash\;9:00 AM</span></span></li>\n	<li data-end="2105" data-section-id="1rjhcn7" data-start="2055"><span style="font-size:12px\;"><span style="font-family:tahoma\;">&#128187\; Virtual (link sent via email the day prior)</span></span></li>\n	<li data-end="2151" data-section-id="17vdf9e" data-start="2106"><span style="font-size:12px\;"><span style="font-family:tahoma\;">&#128178\; Free to attend | Registration required</span></span></li>\n</ul>\n\n<p data-end="2211" data-start="2153"><span style="font-size:12px\;"><span style="font-family:tahoma\;">Come curious\, leave with a clearer picture of your impact.</span></span></p>\n
LOCATION:Virtual
UID:e.3147.4416
SEQUENCE:3
DTSTAMP:20260423T084645Z
URL:https://www.effinghamcounty.com/events/details/virtual-office-hours-built-by-members-4416
END:VEVENT

END:VCALENDAR
